BEGIN:VCALENDAR
VERSION:2.0
PRODID:icalendar-ruby
CALSCALE:GREGORIAN
METHOD:PUBLISH
BEGIN:VEVENT
DTSTAMP:20260421T123527Z
UID:14-198922@loxleychurch.cc
DTSTART:20260531T151500Z
DTEND:20260531T161500Z
CLASS:PUBLIC
CREATED:20260420T111049
DESCRIPTION:Register today to let us know you are interested in Baptism. Al
 l you do is register to let us know you plan to be baptized. We have a fre
 e t-shirt for you and want to help you have a great baptism experience. Co
 ntact the office or staff if you have questions. 
LAST-MODIFIED:20260420T111049
LOCATION:Loxley Church
SUMMARY:Water Baptism
URL;VALUE=URI:https://loxleychurch.cc/events/water-baptism--14/2026-05-31
ATTACH;FILENAME=Baptism-3.jpg;FMTTYPE=image/jpeg:https://dq5pwpg1q8ru0.clou
 dfront.net/2024/07/08/16/55/10/8aebb724-6c99-47e2-831d-cbf76319ee9b/Baptis
 m-3.jpg
END:VEVENT
END:VCALENDAR
