BEGIN:VCALENDAR
VERSION:2.0
PRODID:icalendar-ruby
CALSCALE:GREGORIAN
METHOD:PUBLISH
BEGIN:VEVENT
DTSTAMP:20260421T124224Z
UID:59-198923@loxleychurch.cc
DTSTART:20260509T170000Z
DTEND:20260509T190000Z
CLASS:PUBLIC
CREATED:20260420T111215
DESCRIPTION:Women &amp\; Young Ladies of all ages are invited to join us fo
 r a time of worship &amp\; fellowship\, with a light lunch and goodies/swe
 et treats!
LAST-MODIFIED:20260420T111215
LOCATION:Loxley Church Ministry Center
SUMMARY:Growing in Grace Garden Party
URL;VALUE=URI:https://loxleychurch.cc/events/growing-in-grace-garden-party/
 2026-05-09
ATTACH;FILENAME=Happy-Mothers-Day-Marble-Floral-Banner-Presentation.jpg;FMT
 TYPE=image/jpeg:https://dq5pwpg1q8ru0.cloudfront.net/2026/04/20/16/12/15/6
 7c53e05-76da-4aef-8e46-9bbc0a7c5736/Happy-Mothers-Day-Marble-Floral-Banner
 -Presentation.jpg
END:VEVENT
END:VCALENDAR
