BEGIN:VCALENDAR
VERSION:2.0
PRODID:icalendar-ruby
CALSCALE:GREGORIAN
METHOD:PUBLISH
BEGIN:VEVENT
DTSTAMP:20260421T124224Z
UID:52-198925@loxleychurch.cc
DTSTART:20260621T140000Z
DTEND:20260621T150000Z
CLASS:PUBLIC
CREATED:20260420T111534
DESCRIPTION:We can’t wait for Father’s Day here at Loxley Church! Break
 fast in merge point\, giveaways\, and so much more! Breakfast will be serv
 ed before service at 9AM so you’ll want to make sure to arrive early to 
 church so you don’t miss out! Be sure to invite someone to celebrate wit
 h you!
LAST-MODIFIED:20260420T111534
LOCATION:Loxley Church
SUMMARY:Father's Day
URL;VALUE=URI:https://loxleychurch.cc/events/fathers-day/2026-06-21
END:VEVENT
END:VCALENDAR
