BEGIN:VCALENDAR
VERSION:2.0
PRODID:icalendar-ruby
CALSCALE:GREGORIAN
METHOD:PUBLISH
BEGIN:VEVENT
DTSTAMP:20260421T123927Z
UID:40-198921@loxleychurch.cc
DTSTART:20260524T161500Z
DTEND:20260524T171500Z
CLASS:PUBLIC
CREATED:20260420T111017
DESCRIPTION:If you're new to the church\, we want to invite you to a free l
 unch and give you a special welcome to Loxley Church immediately after ser
 vice!
LAST-MODIFIED:20260420T111017
LOCATION:Ministry Center (Banquet Room)
SUMMARY:Be Our Guest
URL;VALUE=URI:https://loxleychurch.cc/events/be-our-guest--40/2026-05-24
ATTACH;FILENAME=Be-Our-Guest.jpeg;FMTTYPE=image/jpeg:https://dq5pwpg1q8ru0.
 cloudfront.net/2024/12/16/19/35/54/8e7e6453-bb52-4390-8a44-6a3c85bce835/Be
 -Our-Guest.jpeg
END:VEVENT
END:VCALENDAR
